BEGIN:VCALENDAR
VERSION:2.0
PRODID:icalendar-ruby
CALSCALE:GREGORIAN
BEGIN:VEVENT
DTSTAMP:20260423T134217Z
UID:e4f8771f-83aa-40bc-bb1a-65b287553590
DTSTART;TZID=Pacific/Auckland:20260426T130000
DTEND;TZID=Pacific/Auckland:20260426T140000
DESCRIPTION:Property ID# 607138
SUMMARY:Openhome for 187 Matapihi Road
END:VEVENT
END:VCALENDAR
