BEGIN:VCALENDAR
VERSION:2.0
PRODID:icalendar-ruby
CALSCALE:GREGORIAN
BEGIN:VEVENT
DTSTAMP:20260423T133913Z
UID:a57fa3bf-8b72-47be-9dcd-f6c806481e2c
DTSTART;TZID=Pacific/Auckland:20260426T111500
DTEND;TZID=Pacific/Auckland:20260426T120000
DESCRIPTION:Property ID# 607050
SUMMARY:Openhome for 10 Evansbel Place
END:VEVENT
END:VCALENDAR
