BEGIN:VCALENDAR
VERSION:2.0
PRODID:icalendar-ruby
CALSCALE:GREGORIAN
BEGIN:VEVENT
DTSTAMP:20260423T133712Z
UID:9e690b42-52fe-4047-95f0-bc564c6685b6
DTSTART;TZID=Pacific/Auckland:20260426T140000
DTEND;TZID=Pacific/Auckland:20260426T143000
DESCRIPTION:Property ID# 607139
SUMMARY:Openhome for 26A Short Street
END:VEVENT
END:VCALENDAR
