BEGIN:VCALENDAR
VERSION:2.0
PRODID:icalendar-ruby
CALSCALE:GREGORIAN
BEGIN:VEVENT
DTSTAMP:20260423T133835Z
UID:de82f4da-bac2-472e-b288-8165f0000018
DTSTART;TZID=Pacific/Auckland:20260426T133000
DTEND;TZID=Pacific/Auckland:20260426T140000
DESCRIPTION:Property ID# 607140
SUMMARY:Openhome for 655 Grenada Street
END:VEVENT
END:VCALENDAR
