BEGIN:VCALENDAR
VERSION:2.0
PRODID:icalendar-ruby
CALSCALE:GREGORIAN
BEGIN:VEVENT
DTSTAMP:20260423T134313Z
UID:2b8ebddc-9c92-40f1-babe-a8efee713922
DTSTART;TZID=Pacific/Auckland:20260426T130000
DTEND;TZID=Pacific/Auckland:20260426T133000
DESCRIPTION:Property ID# 606922
SUMMARY:Openhome for 27A Barron Crescent
END:VEVENT
END:VCALENDAR
