BEGIN:VCALENDAR
VERSION:2.0
PRODID:icalendar-ruby
CALSCALE:GREGORIAN
BEGIN:VEVENT
DTSTAMP:20260423T223005Z
UID:22be082c-38b3-4f23-b7f4-9de09e0cc351
DTSTART;TZID=Pacific/Auckland:20260426T123000
DTEND;TZID=Pacific/Auckland:20260426T130000
DESCRIPTION:Property ID# 604522
SUMMARY:Openhome for 229B Crawford Road
END:VEVENT
END:VCALENDAR
