BEGIN:VCALENDAR
VERSION:2.0
PRODID:icalendar-ruby
CALSCALE:GREGORIAN
BEGIN:VEVENT
DTSTAMP:20260422T102103Z
UID:32f2b7ed-cc35-492c-b64d-aac9b04965f3
DTSTART;TZID=Pacific/Auckland:20260426T134500
DTEND;TZID=Pacific/Auckland:20260426T141500
DESCRIPTION:Property ID# 606903
SUMMARY:Openhome for 29 Camellia Drive
END:VEVENT
END:VCALENDAR
