BEGIN:VCALENDAR
VERSION:2.0
PRODID:icalendar-ruby
CALSCALE:GREGORIAN
BEGIN:VEVENT
DTSTAMP:20260423T161814Z
UID:912aa6e8-dcc8-48e8-a824-fd99a83a0159
DTSTART;TZID=Pacific/Auckland:20260426T110000
DTEND;TZID=Pacific/Auckland:20260426T113000
DESCRIPTION:Property ID# 600435
SUMMARY:Openhome for 76C Greerton Road
END:VEVENT
END:VCALENDAR
