BEGIN:VCALENDAR
VERSION:2.0
PRODID:icalendar-ruby
CALSCALE:GREGORIAN
BEGIN:VEVENT
DTSTAMP:20260425T120120Z
UID:aaae93c1-7f56-4a59-9139-2758e96ecf50
DTSTART;TZID=Pacific/Auckland:20260426T120000
DTEND;TZID=Pacific/Auckland:20260426T123000
DESCRIPTION:Property ID# 602782
SUMMARY:Openhome for 79 Domain Road
END:VEVENT
END:VCALENDAR
