BEGIN:VCALENDAR
VERSION:2.0
PRODID:icalendar-ruby
CALSCALE:GREGORIAN
BEGIN:VEVENT
DTSTAMP:20260423T161618Z
UID:0a0582aa-94c5-451a-b921-76f544880f64
DTSTART;TZID=Pacific/Auckland:20260426T141500
DTEND;TZID=Pacific/Auckland:20260426T144500
DESCRIPTION:Property ID# 603762
SUMMARY:Openhome for 47 Mauritius Key
END:VEVENT
END:VCALENDAR
