BEGIN:VCALENDAR
VERSION:2.0
PRODID:icalendar-ruby
CALSCALE:GREGORIAN
BEGIN:VEVENT
DTSTAMP:20260423T133820Z
UID:37128bbb-d0b6-4d3b-a984-277d221ec711
DTSTART;VALUE=DATE:20260514
DESCRIPTION:Property ID# 607140\, Locatoin: Eves Auction Rooms\, 247 Camero
 n Road\, Tauranga\, Time: 12:00PM
SUMMARY:Auction for 655 Grenada Street
END:VEVENT
END:VCALENDAR
