BEGIN:VCALENDAR
VERSION:2.0
PRODID:icalendar-ruby
CALSCALE:GREGORIAN
BEGIN:VEVENT
DTSTAMP:20260423T134319Z
UID:92854da4-9e71-4b6b-9ad8-fd485fa9881b
DTSTART;VALUE=DATE:20260513
DESCRIPTION:Property ID# 607050\, Locatoin: at 11:30am\, Harcourts Auction 
 Room\, 1 Third Avenue\, Tauranga\, Time: 12:00PM
SUMMARY:Auction for 10 Evansbel Place
END:VEVENT
END:VCALENDAR
