BEGIN:VCALENDAR
VERSION:2.0
PRODID:icalendar-ruby
CALSCALE:GREGORIAN
BEGIN:VEVENT
DTSTAMP:20260423T083103Z
UID:882b3643-9139-488b-aca5-cb8740ad2bdb
DTSTART;VALUE=DATE:20260506
DESCRIPTION:Property ID# 606918\, Locatoin: at 11:30am\, Harcourts Auction 
 Room\, 1 Third Avenue\, Tauranga\, Time: 12:00PM
SUMMARY:Auction for 12 Putaka Place
END:VEVENT
END:VCALENDAR
