BEGIN:VCALENDAR
VERSION:2.0
PRODID:icalendar-ruby
CALSCALE:GREGORIAN
BEGIN:VEVENT
DTSTAMP:20260423T133626Z
UID:85e2d31d-51af-48a1-bebd-fc85f7fe8cac
DTSTART;VALUE=DATE:20260521
DESCRIPTION:Property ID# 606866\, Locatoin: Auction Rooms\, 247 Cameron Roa
 d\, Tauranga. Unless sold prior\, Time: 1:00PM
SUMMARY:Auction for 2 Harper Way
END:VEVENT
END:VCALENDAR
