BEGIN:VCALENDAR
VERSION:2.0
PRODID:icalendar-ruby
CALSCALE:GREGORIAN
BEGIN:VEVENT
DTSTAMP:20260422T100507Z
UID:540a5817-50af-486f-ab6b-efc7869d0d73
DTSTART;VALUE=DATE:20260507
DESCRIPTION:Property ID# 606838\, Time: 4:00PM
SUMMARY:Auction for 74 Robinson Avenue
END:VEVENT
END:VCALENDAR
