BEGIN:VCALENDAR
VERSION:2.0
PRODID:icalendar-ruby
CALSCALE:GREGORIAN
BEGIN:VEVENT
DTSTAMP:20260420T100841Z
UID:4f0cffbb-659f-42dd-b34d-79f1be781e1f
DTSTART;VALUE=DATE:20260507
DESCRIPTION:Property ID# 606772\, Locatoin: Auction Rooms\, 247 Cameron Roa
 d\, Tauranga. Unless sold prior\, Time: 1:00PM
SUMMARY:Auction for 7 Te Wati Street
END:VEVENT
END:VCALENDAR
