BEGIN:VCALENDAR
VERSION:2.0
PRODID:icalendar-ruby
CALSCALE:GREGORIAN
BEGIN:VEVENT
DTSTAMP:20260422T100542Z
UID:4c320738-4b82-45b0-9b3c-7a029912c47c
DTSTART;VALUE=DATE:20260507
DESCRIPTION:Property ID# 606688\, Time: 4:00PM
SUMMARY:Auction for 15 Mahanga Road
END:VEVENT
END:VCALENDAR
