BEGIN:VCALENDAR
VERSION:2.0
PRODID:icalendar-ruby
CALSCALE:GREGORIAN
BEGIN:VEVENT
DTSTAMP:20260423T161518Z
UID:3524edb5-c6eb-434e-a561-992e38091c4d
DTSTART;VALUE=DATE:20260312
DESCRIPTION:Property ID# 604569\, Locatoin: Eves Auction Rooms\, 247 Camero
 n Road\, Tauranga\, Time: 1:00PM
SUMMARY:Auction for 
END:VEVENT
END:VCALENDAR
