BEGIN:VCALENDAR
VERSION:2.0
PRODID:icalendar-ruby
CALSCALE:GREGORIAN
BEGIN:VEVENT
DTSTAMP:20260423T224143Z
UID:edde9027-cc33-4347-8f86-19634e4609fb
DTSTART;VALUE=DATE:20260212
DESCRIPTION:Property ID# 602418\, Locatoin: 247 Cameron Road\, Taraunga\, T
 ime: 1:00PM
SUMMARY:Auction for 
END:VEVENT
END:VCALENDAR
