BEGIN:VCALENDAR
VERSION:2.0
PRODID:icalendar-ruby
CALSCALE:GREGORIAN
BEGIN:VEVENT
DTSTAMP:20260422T114526Z
UID:84cd4f35-f5b6-43c1-bd0e-50ad0f4c71be
DTSTART;VALUE=DATE:20251218
DESCRIPTION:Property ID# 601070\, Locatoin: Auction Rooms\, 247 Cameron Roa
 d\, Tauranga. Unless sold prior\, Time: 1:00PM
SUMMARY:Auction for 
END:VEVENT
END:VCALENDAR
