BEGIN:VCALENDAR
VERSION:2.0
PRODID:icalendar-ruby
CALSCALE:GREGORIAN
BEGIN:VEVENT
DTSTAMP:20260423T162031Z
UID:6c7ca6a9-7783-42d1-aaf3-f4c7725f0d15
DTSTART;VALUE=DATE:20251211
DESCRIPTION:Property ID# 600700\, Locatoin: Eves Auction Rooms\, 247 Camero
 n Road\, Tauranga\, Time: 1:00PM
SUMMARY:Auction for 
END:VEVENT
END:VCALENDAR
