BEGIN:VCALENDAR
VERSION:2.0
PRODID:icalendar-ruby
CALSCALE:GREGORIAN
BEGIN:VEVENT
DTSTAMP:20260420T124926Z
UID:6b16aea9-d577-46b4-b21c-473b7e756621
DTSTART;VALUE=DATE:20251204
DESCRIPTION:Property ID# 600486\, Locatoin: EVES Auction Room: 247 Cameron 
 Road\, Tauranga (unless sold prior)	\, Time: 1:00PM
SUMMARY:Auction for 
END:VEVENT
END:VCALENDAR
