BEGIN:VCALENDAR
VERSION:2.0
PRODID:icalendar-ruby
CALSCALE:GREGORIAN
BEGIN:VEVENT
DTSTAMP:20260420T125222Z
UID:32aac01d-cac0-49c7-8c13-9eed45d39b39
DTSTART;VALUE=DATE:20251106
DESCRIPTION:Property ID# 599321\, Time: 4:00PM
SUMMARY:Auction for 
END:VEVENT
END:VCALENDAR
