BEGIN:VCALENDAR
VERSION:2.0
PRODID:icalendar-ruby
CALSCALE:GREGORIAN
BEGIN:VEVENT
DTSTAMP:20260423T163931Z
UID:4f4d14dd-313a-4283-b4ea-9e4df4b4a9ba
DTSTART;VALUE=DATE:20251030
DESCRIPTION:Property ID# 598871\, Locatoin: Auction Rooms\, 247 Cameron Roa
 d\, Tauranga. Unless sold prior\, Time: 1:00PM
SUMMARY:Auction for 
END:VEVENT
END:VCALENDAR
