BEGIN:VCALENDAR
VERSION:2.0
PRODID:icalendar-ruby
CALSCALE:GREGORIAN
BEGIN:VEVENT
DTSTAMP:20260423T224251Z
UID:2f9361fc-ba15-43f0-aa57-a1a1c80018e1
DTSTART;VALUE=DATE:20251016
DESCRIPTION:Property ID# 597594\, Locatoin: 247 Cameron Road\, Taraunga\, T
 ime: 1:00PM
SUMMARY:Auction for 
END:VEVENT
END:VCALENDAR
