BEGIN:VCALENDAR
VERSION:2.0
PRODID:icalendar-ruby
CALSCALE:GREGORIAN
BEGIN:VEVENT
DTSTAMP:20260423T193125Z
UID:8d4ba2c9-3271-4b7e-af78-d7b74027fe59
DTSTART;VALUE=DATE:20250918
DESCRIPTION:Property ID# 596495\, Locatoin: 247 Cameron Road\, Tauranga\, T
 ime: 1:00PM
SUMMARY:Auction for 
END:VEVENT
END:VCALENDAR
