BEGIN:VCALENDAR
VERSION:2.0
PRODID:icalendar-ruby
CALSCALE:GREGORIAN
BEGIN:VEVENT
DTSTAMP:20260425T115936Z
UID:1b904441-d379-412c-85ab-8b4fb0fc4f7a
DTSTART;VALUE=DATE:20250828
DESCRIPTION:Property ID# 595982\, Locatoin: Eves Auction Rooms\, 247 Camero
 n Road\, Tauranga\, Time: 1:00PM
SUMMARY:Auction for 
END:VEVENT
END:VCALENDAR
