BEGIN:VCALENDAR
VERSION:2.0
PRODID:icalendar-ruby
CALSCALE:GREGORIAN
BEGIN:VEVENT
DTSTAMP:20260423T164232Z
UID:c755588f-dd7a-4a81-bc5c-ee796406a337
DTSTART;VALUE=DATE:20250814
DESCRIPTION:Property ID# 595552\, Time: 12:00PM
SUMMARY:Auction for 
END:VEVENT
END:VCALENDAR
