BEGIN:VCALENDAR
VERSION:2.0
PRODID:icalendar-ruby
CALSCALE:GREGORIAN
BEGIN:VEVENT
DTSTAMP:20260423T193618Z
UID:dcaca467-2147-4936-894c-c250d99fda7d
DTSTART;VALUE=DATE:20250717
DESCRIPTION:Property ID# 594448\, Locatoin: 247 Cameron Road\, Tauranga\, T
 ime: 1:00PM
SUMMARY:Auction for 
END:VEVENT
END:VCALENDAR
