BEGIN:VCALENDAR
VERSION:2.0
PRODID:icalendar-ruby
CALSCALE:GREGORIAN
BEGIN:VEVENT
DTSTAMP:20260423T224251Z
UID:8887a592-72c1-447b-b843-efbb9f133362
DTSTART;VALUE=DATE:20250529
DESCRIPTION:Property ID# 592221\, Locatoin: 247 Cameron Road\, Taraunga\, T
 ime: 1:00PM
SUMMARY:Auction for 
END:VEVENT
END:VCALENDAR
