BEGIN:VCALENDAR
VERSION:2.0
PRODID:icalendar-ruby
CALSCALE:GREGORIAN
BEGIN:VEVENT
DTSTAMP:20260423T163931Z
UID:3ce3ee4b-3f75-4ce2-bdbd-2366702b892d
DTSTART;VALUE=DATE:20250515
DESCRIPTION:Property ID# 591730\, Locatoin: Auction Rooms\, 247 Cameron Roa
 d\, Tauranga. Unless sold prior\, Time: 1:00PM
SUMMARY:Auction for 
END:VEVENT
END:VCALENDAR
