BEGIN:VCALENDAR
VERSION:2.0
PRODID:icalendar-ruby
CALSCALE:GREGORIAN
BEGIN:VEVENT
DTSTAMP:20260423T164125Z
UID:c4bf34fc-df45-4edd-a5e0-762cc9fa3644
DTSTART;VALUE=DATE:20250319
DESCRIPTION:Property ID# 587892\, Time: 4:00PM
SUMMARY:Auction for 
END:VEVENT
END:VCALENDAR
