BEGIN:VCALENDAR
VERSION:2.0
PRODID:icalendar-ruby
CALSCALE:GREGORIAN
BEGIN:VEVENT
DTSTAMP:20260423T223740Z
UID:94688521-db3a-4f85-9298-57c1d83152c8
DTSTART;VALUE=DATE:20250227
DESCRIPTION:Property ID# 587125\, Locatoin: 247 Cameron Road\, Taraunga\, T
 ime: 1:00PM
SUMMARY:Auction for 
END:VEVENT
END:VCALENDAR
