BEGIN:VCALENDAR
VERSION:2.0
PRODID:icalendar-ruby
CALSCALE:GREGORIAN
BEGIN:VEVENT
DTSTAMP:20260423T161815Z
UID:7b6103a5-24fd-41ad-b759-53bbfc01fae7
DTSTART;VALUE=DATE:20240808
DESCRIPTION:Property ID# 578938\, Locatoin: Auction rooms\, 247 Cameron Rd\
 , Tauranga \, Time: 1:00PM
SUMMARY:Auction for 
END:VEVENT
END:VCALENDAR
