BEGIN:VCALENDAR
VERSION:2.0
PRODID:icalendar-ruby
CALSCALE:GREGORIAN
BEGIN:VEVENT
DTSTAMP:20260424T042130Z
UID:e399409a-a32e-4622-9b03-7466096b3375
DTSTART;VALUE=DATE:20240423
DESCRIPTION:Property ID# 572990\, Locatoin: In Rooms\, Time: 1:00PM
SUMMARY:Auction for 
END:VEVENT
END:VCALENDAR
