BEGIN:VCALENDAR
VERSION:2.0
PRODID:icalendar-ruby
CALSCALE:GREGORIAN
BEGIN:VEVENT
DTSTAMP:20260423T161345Z
UID:e21493e4-97cd-4308-9b54-a45d253262dc
DTSTART;VALUE=DATE:20240314
DESCRIPTION:Property ID# 570744\, Locatoin: Auction rooms\, 247 Cameron Rd\
 , Tauranga \, Time: 1:00PM
SUMMARY:Auction for 
END:VEVENT
END:VCALENDAR
