BEGIN:VCALENDAR
VERSION:2.0
PRODID:icalendar-ruby
CALSCALE:GREGORIAN
BEGIN:VEVENT
DTSTAMP:20260424T042507Z
UID:c3fafcef-9e67-4c1b-9ff0-194518743f54
DTSTART;VALUE=DATE:20240229
DESCRIPTION:Property ID# 569285\, Locatoin: Auction Rooms\, 247 Cameron Roa
 d\, Tauranga. Unless sold prior\, Time: 1:00PM
SUMMARY:Auction for 
END:VEVENT
END:VCALENDAR
