BEGIN:VCALENDAR
VERSION:2.0
PRODID:icalendar-ruby
CALSCALE:GREGORIAN
BEGIN:VEVENT
DTSTAMP:20260424T013701Z
UID:fbd0706f-ba6f-4ae9-887e-fdfd3443d0d4
DTSTART;VALUE=DATE:20231214
DESCRIPTION:Property ID# 566327\, Locatoin: Auction Rooms\, 247 Cameron Roa
 d\, Tauranga. Unless sold prior\, Time: 1:00PM
SUMMARY:Auction for 
END:VEVENT
END:VCALENDAR
