BEGIN:VCALENDAR
VERSION:2.0
PRODID:icalendar-ruby
CALSCALE:GREGORIAN
BEGIN:VEVENT
DTSTAMP:20260423T223903Z
UID:bdc2d497-67a1-41e8-8986-34ed5fc7c8e8
DTSTART;VALUE=DATE:20230713
DESCRIPTION:Property ID# 558695\, Locatoin: 247 Cameron Road\, Tauranga\, T
 ime: 1:00PM
SUMMARY:Auction for 
END:VEVENT
END:VCALENDAR
