BEGIN:VCALENDAR
VERSION:2.0
PRODID:icalendar-ruby
CALSCALE:GREGORIAN
BEGIN:VEVENT
DTSTAMP:20260423T162100Z
UID:ddccf928-5d56-46d7-9e8d-943d8d2b4937
DTSTART;VALUE=DATE:20230622
DESCRIPTION:Property ID# 557887\, Locatoin: Auction rooms\, 247 Cameron Rd\
 , Tauranga \, Time: 1:00PM
SUMMARY:Auction for 
END:VEVENT
END:VCALENDAR
