BEGIN:VCALENDAR
VERSION:2.0
PRODID:icalendar-ruby
CALSCALE:GREGORIAN
BEGIN:VEVENT
DTSTAMP:20260423T222828Z
UID:e8d2efb3-0553-471c-a69b-463c99a7f1bc
DTSTART;VALUE=DATE:20230126
DESCRIPTION:Property ID# 549031\, Time: 4:00PM
SUMMARY:Auction for 
END:VEVENT
END:VCALENDAR
