BEGIN:VCALENDAR
VERSION:2.0
PRODID:icalendar-ruby
CALSCALE:GREGORIAN
BEGIN:VEVENT
DTSTAMP:20260423T223005Z
UID:f3156a54-056d-4d0d-a7ab-ebe73c9d0e8a
DTSTART;VALUE=DATE:20230125
DESCRIPTION:Property ID# 548932\, Time: 4:00PM
SUMMARY:Auction for 
END:VEVENT
END:VCALENDAR
