BEGIN:VCALENDAR
VERSION:2.0
PRODID:icalendar-ruby
CALSCALE:GREGORIAN
BEGIN:VEVENT
DTSTAMP:20260423T223603Z
UID:3ea09f4e-1ece-4c0c-a1d9-9b57e867788b
DTSTART;VALUE=DATE:20221013
DESCRIPTION:Property ID# 543952\, Time: 4:00PM
SUMMARY:Auction for 
END:VEVENT
END:VCALENDAR
