BEGIN:VCALENDAR
VERSION:2.0
PRODID:icalendar-ruby
CALSCALE:GREGORIAN
BEGIN:VEVENT
DTSTAMP:20260424T011316Z
UID:22be96a2-8369-44d5-be87-2c1a4087c8e7
DTSTART;VALUE=DATE:20220908
DESCRIPTION:Property ID# 542031\, Locatoin: 247 Cameron Road\, Tauranga\, T
 ime: 1:00PM
SUMMARY:Auction for 
END:VEVENT
END:VCALENDAR
