BEGIN:VCALENDAR
VERSION:2.0
PRODID:icalendar-ruby
CALSCALE:GREGORIAN
BEGIN:VEVENT
DTSTAMP:20260423T163839Z
UID:5a5ebc3d-a1f3-4a23-9a22-4c16bf2e6c28
DTSTART;VALUE=DATE:20220123
DESCRIPTION:Property ID# 524558\, Locatoin: AUCTION ON SITE (unless sold pr
 ior) \, Time: 11:00AM
SUMMARY:Auction for 
END:VEVENT
END:VCALENDAR
