BEGIN:VCALENDAR
VERSION:2.0
PRODID:icalendar-ruby
CALSCALE:GREGORIAN
BEGIN:VEVENT
DTSTAMP:20260422T082901Z
UID:48f25fa5-0e6b-48a3-8071-5575cf8f4b02
DTSTART;VALUE=DATE:20211206
DESCRIPTION:Property ID# 521715\, Locatoin: On Line (unless sold prior)\, T
 ime: 6:00PM
SUMMARY:Auction for 
END:VEVENT
END:VCALENDAR
