BEGIN:VCALENDAR
VERSION:2.0
PRODID:icalendar-ruby
CALSCALE:GREGORIAN
BEGIN:VEVENT
DTSTAMP:20260424T013501Z
UID:b4eb149d-f27b-4a05-820e-8aaca6e95f48
DTSTART;VALUE=DATE:20211014
DESCRIPTION:Property ID# 518597\, Locatoin: 247 Cameron Road\, Tauranga\, T
 ime: 1:00PM
SUMMARY:Auction for 
END:VEVENT
END:VCALENDAR
