BEGIN:VCALENDAR
VERSION:2.0
PRODID:icalendar-ruby
CALSCALE:GREGORIAN
BEGIN:VEVENT
DTSTAMP:20260423T164401Z
UID:3e79a02a-666c-4843-a163-07834e9baa65
DTSTART;VALUE=DATE:20210928
DESCRIPTION:Property ID# 516626\, Time: 4:00PM
SUMMARY:Auction for 
END:VEVENT
END:VCALENDAR
