BEGIN:VCALENDAR
VERSION:2.0
PRODID:icalendar-ruby
CALSCALE:GREGORIAN
BEGIN:VEVENT
DTSTAMP:20260424T014004Z
UID:82b4fb07-79fc-40a1-80b6-a1dbf27f6031
DTSTART;VALUE=DATE:20210729
DESCRIPTION:Property ID# 513570\, Locatoin: 247 Cameron Road\, Tauranga\, T
 ime: 1:00PM
SUMMARY:Auction for 
END:VEVENT
END:VCALENDAR
