BEGIN:VCALENDAR
VERSION:2.0
PRODID:icalendar-ruby
CALSCALE:GREGORIAN
BEGIN:VEVENT
DTSTAMP:20260420T082503Z
UID:e0b2bff0-365c-4a88-ac8e-8065cf871ec6
DTSTART;VALUE=DATE:20210722
DESCRIPTION:Property ID# 512666\, Locatoin: 247 Cameron Road\, Tauranga\, T
 ime: 1:00PM
SUMMARY:Auction for 
END:VEVENT
END:VCALENDAR
